BEGIN:VCALENDAR
VERSION:2.0
PRODID:-//Glenora Preschool - ECPv6.15.20//NONSGML v1.0//EN
CALSCALE:GREGORIAN
METHOD:PUBLISH
X-WR-CALNAME:Glenora Preschool
X-ORIGINAL-URL:https://glenorapreschool.ca
X-WR-CALDESC:Events for Glenora Preschool
REFRESH-INTERVAL;VALUE=DURATION:PT1H
X-Robots-Tag:noindex
X-PUBLISHED-TTL:PT1H
BEGIN:VTIMEZONE
TZID:UTC
BEGIN:STANDARD
TZOFFSETFROM:+0000
TZOFFSETTO:+0000
TZNAME:UTC
DTSTART:20170101T000000
END:STANDARD
END:VTIMEZONE
BEGIN:VTIMEZONE
TZID:America/Edmonton
BEGIN:DAYLIGHT
TZOFFSETFROM:-0700
TZOFFSETTO:-0600
TZNAME:MDT
DTSTART:20190310T090000
END:DAYLIGHT
BEGIN:STANDARD
TZOFFSETFROM:-0600
TZOFFSETTO:-0700
TZNAME:MST
DTSTART:20191103T080000
END:STANDARD
BEGIN:DAYLIGHT
TZOFFSETFROM:-0700
TZOFFSETTO:-0600
TZNAME:MDT
DTSTART:20200308T090000
END:DAYLIGHT
BEGIN:STANDARD
TZOFFSETFROM:-0600
TZOFFSETTO:-0700
TZNAME:MST
DTSTART:20201101T080000
END:STANDARD
BEGIN:DAYLIGHT
TZOFFSETFROM:-0700
TZOFFSETTO:-0600
TZNAME:MDT
DTSTART:20210314T090000
END:DAYLIGHT
BEGIN:STANDARD
TZOFFSETFROM:-0600
TZOFFSETTO:-0700
TZNAME:MST
DTSTART:20211107T080000
END:STANDARD
BEGIN:DAYLIGHT
TZOFFSETFROM:-0700
TZOFFSETTO:-0600
TZNAME:MDT
DTSTART:20220313T090000
END:DAYLIGHT
BEGIN:STANDARD
TZOFFSETFROM:-0600
TZOFFSETTO:-0700
TZNAME:MST
DTSTART:20221106T080000
END:STANDARD
END:VTIMEZONE
BEGIN:VEVENT
DTSTART;TZID=UTC:20211209T110000
DTEND;TZID=UTC:20211209T113000
DTSTAMP:20260420T021902
CREATED:20210918T205631Z
LAST-MODIFIED:20210918T205631Z
UID:412-1639047600-1639049400@glenorapreschool.ca
SUMMARY:Christmas Party
DESCRIPTION:
URL:https://glenorapreschool.ca/calendar/christmas-party-2/
END:VEVENT
BEGIN:VEVENT
DTSTART;TZID=UTC:20211208T110000
DTEND;TZID=UTC:20211208T113000
DTSTAMP:20260420T021902
CREATED:20210918T205601Z
LAST-MODIFIED:20210918T205601Z
UID:410-1638961200-1638963000@glenorapreschool.ca
SUMMARY:Christmas Party
DESCRIPTION:
URL:https://glenorapreschool.ca/calendar/christmas-party/
END:VEVENT
BEGIN:VEVENT
DTSTART;VALUE=DATE:20211124
DTEND;VALUE=DATE:20211125
DTSTAMP:20260420T021902
CREATED:20210918T205506Z
LAST-MODIFIED:20210918T205506Z
UID:408-1637712000-1637798399@glenorapreschool.ca
SUMMARY:Teachers Prep Day
DESCRIPTION:NO School Today
URL:https://glenorapreschool.ca/calendar/teachers-prep-day/
END:VEVENT
BEGIN:VEVENT
DTSTART;VALUE=DATE:20211111
DTEND;VALUE=DATE:20211112
DTSTAMP:20260420T021902
CREATED:20210918T205428Z
LAST-MODIFIED:20210918T205428Z
UID:406-1636588800-1636675199@glenorapreschool.ca
SUMMARY:Remembrance Day
DESCRIPTION:NO School Today
URL:https://glenorapreschool.ca/calendar/remembrance-day/
END:VEVENT
BEGIN:VEVENT
DTSTART;TZID=America/Edmonton:20211028T110000
DTEND;TZID=America/Edmonton:20211028T113000
DTSTAMP:20260420T021902
CREATED:20210918T205342Z
LAST-MODIFIED:20210918T211000Z
UID:404-1635418800-1635420600@glenorapreschool.ca
SUMMARY:Halloween Party
DESCRIPTION:
URL:https://glenorapreschool.ca/calendar/halloween-party-2/
END:VEVENT
BEGIN:VEVENT
DTSTART;TZID=UTC:20211027T110000
DTEND;TZID=UTC:20211027T113000
DTSTAMP:20260420T021902
CREATED:20210918T205304Z
LAST-MODIFIED:20210918T205304Z
UID:402-1635332400-1635334200@glenorapreschool.ca
SUMMARY:Halloween Party
DESCRIPTION:
URL:https://glenorapreschool.ca/calendar/halloween-party/
END:VEVENT
BEGIN:VEVENT
DTSTART;VALUE=DATE:20211011
DTEND;VALUE=DATE:20211012
DTSTAMP:20260420T021902
CREATED:20210918T205122Z
LAST-MODIFIED:20210918T205122Z
UID:399-1633910400-1633996799@glenorapreschool.ca
SUMMARY:Thanksgiving
DESCRIPTION:NO School Today
URL:https://glenorapreschool.ca/calendar/thanksgiving/
END:VEVENT
BEGIN:VEVENT
DTSTART;VALUE=DATE:20210930
DTEND;VALUE=DATE:20211001
DTSTAMP:20260420T021902
CREATED:20210918T205044Z
LAST-MODIFIED:20210918T205044Z
UID:397-1632960000-1633046399@glenorapreschool.ca
SUMMARY:National Day for Truth and Reconciliation
DESCRIPTION:NO School Today
URL:https://glenorapreschool.ca/calendar/national-day-for-truth-and-reconciliation/
END:VEVENT
BEGIN:VEVENT
DTSTART;TZID=UTC:20210928T193000
DTEND;TZID=UTC:20210928T203000
DTSTAMP:20260420T021902
CREATED:20210918T204853Z
LAST-MODIFIED:20210918T204936Z
UID:395-1632857400-1632861000@glenorapreschool.ca
SUMMARY:General Meeting
DESCRIPTION:
URL:https://glenorapreschool.ca/calendar/general-meeting-2/
LOCATION:Glenora Community Centre
END:VEVENT
BEGIN:VEVENT
DTSTART;VALUE=DATE:20210322
DTEND;VALUE=DATE:20210323
DTSTAMP:20260420T021902
CREATED:20210201T005118Z
LAST-MODIFIED:20210201T005118Z
UID:361-1616371200-1616457599@glenorapreschool.ca
SUMMARY:New Families Registration
DESCRIPTION:
URL:https://glenorapreschool.ca/calendar/new-families-registration/
END:VEVENT
BEGIN:VEVENT
DTSTART;VALUE=DATE:20210308
DTEND;VALUE=DATE:20210320
DTSTAMP:20260420T021902
CREATED:20210201T004822Z
LAST-MODIFIED:20210201T004822Z
UID:358-1615161600-1616198399@glenorapreschool.ca
SUMMARY:Legacy Families Registration
DESCRIPTION:
URL:https://glenorapreschool.ca/calendar/legacy-families-registration/
END:VEVENT
BEGIN:VEVENT
DTSTART;VALUE=DATE:20210215
DTEND;VALUE=DATE:20210227
DTSTAMP:20260420T021902
CREATED:20210201T004455Z
LAST-MODIFIED:20210201T004455Z
UID:355-1613347200-1614383999@glenorapreschool.ca
SUMMARY:Returning Families Registration
DESCRIPTION:
URL:https://glenorapreschool.ca/calendar/returning-families-registration/
END:VEVENT
BEGIN:VEVENT
DTSTART;TZID=America/Edmonton:20200609T090000
DTEND;TZID=America/Edmonton:20200609T113000
DTSTAMP:20260420T021902
CREATED:20200105T223625Z
LAST-MODIFIED:20200105T223625Z
UID:320-1591693200-1591702200@glenorapreschool.ca
SUMMARY:Family Picnic -- 3 YR Class
DESCRIPTION:
URL:https://glenorapreschool.ca/calendar/family-picnic-3-yr-class/
END:VEVENT
BEGIN:VEVENT
DTSTART;TZID=America/Edmonton:20200608T090000
DTEND;TZID=America/Edmonton:20200608T113000
DTSTAMP:20260420T021902
CREATED:20200105T223524Z
LAST-MODIFIED:20200105T223524Z
UID:318-1591606800-1591615800@glenorapreschool.ca
SUMMARY:Family Picnic -- 4 YR Class
DESCRIPTION:
URL:https://glenorapreschool.ca/calendar/family-picnic-4-yr-class/
END:VEVENT
BEGIN:VEVENT
DTSTART;VALUE=DATE:20200527
DTEND;VALUE=DATE:20200528
DTSTAMP:20260420T021902
CREATED:20200105T223336Z
LAST-MODIFIED:20200105T223336Z
UID:316-1590537600-1590623999@glenorapreschool.ca
SUMMARY:Prep Day -- NO SCHOOL
DESCRIPTION:
URL:https://glenorapreschool.ca/calendar/prep-day-no-school-3/
END:VEVENT
BEGIN:VEVENT
DTSTART;VALUE=DATE:20200518
DTEND;VALUE=DATE:20200519
DTSTAMP:20260420T021902
CREATED:20200105T223242Z
LAST-MODIFIED:20200105T223242Z
UID:314-1589760000-1589846399@glenorapreschool.ca
SUMMARY:Victoria Day -- NO SCHOOL
DESCRIPTION:
URL:https://glenorapreschool.ca/calendar/victoria-day-no-school/
END:VEVENT
BEGIN:VEVENT
DTSTART;TZID=America/Edmonton:20200506T183000
DTEND;TZID=America/Edmonton:20200506T200000
DTSTAMP:20260420T021902
CREATED:20200105T223006Z
LAST-MODIFIED:20200105T224510Z
UID:310-1588789800-1588795200@glenorapreschool.ca
SUMMARY:Art Gallery Night
DESCRIPTION:
URL:https://glenorapreschool.ca/calendar/art-gallery-night/
LOCATION:Glenora Preschool\, Edmonton\, AB\, Canada
END:VEVENT
BEGIN:VEVENT
DTSTART;VALUE=DATE:20200506
DTEND;VALUE=DATE:20200508
DTSTAMP:20260420T021902
CREATED:20200105T223145Z
LAST-MODIFIED:20200105T223145Z
UID:312-1588723200-1588895999@glenorapreschool.ca
SUMMARY:NO SCHOOL
DESCRIPTION:
URL:https://glenorapreschool.ca/calendar/no-school/
END:VEVENT
BEGIN:VEVENT
DTSTART;VALUE=DATE:20200413
DTEND;VALUE=DATE:20200414
DTSTAMP:20260420T021902
CREATED:20200105T222831Z
LAST-MODIFIED:20200105T222831Z
UID:308-1586736000-1586822399@glenorapreschool.ca
SUMMARY:Easter Monday -- NO SCHOOL
DESCRIPTION:
URL:https://glenorapreschool.ca/calendar/easter-monday-no-school/
END:VEVENT
BEGIN:VEVENT
DTSTART;VALUE=DATE:20200410
DTEND;VALUE=DATE:20200411
DTSTAMP:20260420T021902
CREATED:20200105T222747Z
LAST-MODIFIED:20200105T224359Z
UID:306-1586476800-1586563199@glenorapreschool.ca
SUMMARY:Good Friday -- NO SCHOOL
DESCRIPTION:
URL:https://glenorapreschool.ca/calendar/good-friday-no-school/
END:VEVENT
BEGIN:VEVENT
DTSTART;VALUE=DATE:20200331
DTEND;VALUE=DATE:20200401
DTSTAMP:20260420T021902
CREATED:20200105T222703Z
LAST-MODIFIED:20200105T224321Z
UID:304-1585612800-1585699199@glenorapreschool.ca
SUMMARY:Prep Day -- NO SCHOOL
DESCRIPTION:
URL:https://glenorapreschool.ca/calendar/prep-day-no-school-2/
END:VEVENT
BEGIN:VEVENT
DTSTART;VALUE=DATE:20200323
DTEND;VALUE=DATE:20200328
DTSTAMP:20260420T021902
CREATED:20200105T222511Z
LAST-MODIFIED:20200105T224248Z
UID:302-1584921600-1585353599@glenorapreschool.ca
SUMMARY:Spring Break -- NO SCHOOL
DESCRIPTION:
URL:https://glenorapreschool.ca/calendar/spring-break-no-school/
END:VEVENT
BEGIN:VEVENT
DTSTART;TZID=America/Edmonton:20200314T190000
DTEND;TZID=America/Edmonton:20200314T233000
DTSTAMP:20260420T021902
CREATED:20200105T222331Z
LAST-MODIFIED:20200105T223910Z
UID:300-1584212400-1584228600@glenorapreschool.ca
SUMMARY:Annual Preschool Fundraiser
DESCRIPTION:
URL:https://glenorapreschool.ca/calendar/annual-preschool-fundraiser/
END:VEVENT
BEGIN:VEVENT
DTSTART;VALUE=DATE:20200227
DTEND;VALUE=DATE:20200229
DTSTAMP:20260420T021902
CREATED:20200105T221200Z
LAST-MODIFIED:20200105T221850Z
UID:288-1582761600-1582934399@glenorapreschool.ca
SUMMARY:Teachers Convention -- NO SCHOOL
DESCRIPTION:
URL:https://glenorapreschool.ca/calendar/general-meeting/
END:VEVENT
BEGIN:VEVENT
DTSTART;VALUE=DATE:20200217
DTEND;VALUE=DATE:20200218
DTSTAMP:20260420T021902
CREATED:20200105T222145Z
LAST-MODIFIED:20200105T224141Z
UID:298-1581897600-1581983999@glenorapreschool.ca
SUMMARY:Family Day -- NO SCHOOL
DESCRIPTION:
URL:https://glenorapreschool.ca/calendar/family-day-no-school/
END:VEVENT
BEGIN:VEVENT
DTSTART;VALUE=DATE:20200128
DTEND;VALUE=DATE:20200129
DTSTAMP:20260420T021902
CREATED:20200105T222044Z
LAST-MODIFIED:20200105T222044Z
UID:296-1580169600-1580255999@glenorapreschool.ca
SUMMARY:Prep Day -- NO SCHOOL
DESCRIPTION:
URL:https://glenorapreschool.ca/calendar/prep-day-no-school/
END:VEVENT
BEGIN:VEVENT
DTSTART;TZID=America/Edmonton:20200116T193000
DTEND;TZID=America/Edmonton:20200116T203000
DTSTAMP:20260420T021902
CREATED:20200105T220838Z
LAST-MODIFIED:20200105T224039Z
UID:286-1579203000-1579206600@glenorapreschool.ca
SUMMARY:Board Meeting
DESCRIPTION:
URL:https://glenorapreschool.ca/calendar/board-meeting/
END:VEVENT
BEGIN:VEVENT
DTSTART;TZID=America/Edmonton:20200107T090000
DTEND;TZID=America/Edmonton:20200107T113000
DTSTAMP:20260420T021902
CREATED:20200105T224855Z
LAST-MODIFIED:20200105T224855Z
UID:324-1578387600-1578396600@glenorapreschool.ca
SUMMARY:WELCOME BACK!
DESCRIPTION:
URL:https://glenorapreschool.ca/calendar/welcome-back-2/
END:VEVENT
BEGIN:VEVENT
DTSTART;TZID=America/Edmonton:20200106T090000
DTEND;TZID=America/Edmonton:20200106T113000
DTSTAMP:20260420T021902
CREATED:20200105T224715Z
LAST-MODIFIED:20200105T224715Z
UID:322-1578301200-1578310200@glenorapreschool.ca
SUMMARY:WELCOME BACK!
DESCRIPTION:
URL:https://glenorapreschool.ca/calendar/welcome-back/
END:VEVENT
BEGIN:VEVENT
DTSTART;TZID=UTC:20180201T080000
DTEND;TZID=UTC:20180201T170000
DTSTAMP:20260420T021902
CREATED:20180128T200202Z
LAST-MODIFIED:20180128T200202Z
UID:150-1517472000-1517504400@glenorapreschool.ca
SUMMARY:Sample Event
DESCRIPTION:
URL:https://glenorapreschool.ca/calendar/sample-event/
LOCATION:Glenora Preschool\, Edmonton\, AB\, Canada
END:VEVENT
END:VCALENDAR