BEGIN:VCALENDAR
VERSION:2.0
PRODID:-//Glenora Preschool - ECPv6.15.20//NONSGML v1.0//EN
CALSCALE:GREGORIAN
METHOD:PUBLISH
X-WR-CALNAME:Glenora Preschool
X-ORIGINAL-URL:https://glenorapreschool.ca
X-WR-CALDESC:Events for Glenora Preschool
REFRESH-INTERVAL;VALUE=DURATION:PT1H
X-Robots-Tag:noindex
X-PUBLISHED-TTL:PT1H
BEGIN:VTIMEZONE
TZID:America/Edmonton
BEGIN:DAYLIGHT
TZOFFSETFROM:-0700
TZOFFSETTO:-0600
TZNAME:MDT
DTSTART:20190310T090000
END:DAYLIGHT
BEGIN:STANDARD
TZOFFSETFROM:-0600
TZOFFSETTO:-0700
TZNAME:MST
DTSTART:20191103T080000
END:STANDARD
BEGIN:DAYLIGHT
TZOFFSETFROM:-0700
TZOFFSETTO:-0600
TZNAME:MDT
DTSTART:20200308T090000
END:DAYLIGHT
BEGIN:STANDARD
TZOFFSETFROM:-0600
TZOFFSETTO:-0700
TZNAME:MST
DTSTART:20201101T080000
END:STANDARD
BEGIN:DAYLIGHT
TZOFFSETFROM:-0700
TZOFFSETTO:-0600
TZNAME:MDT
DTSTART:20210314T090000
END:DAYLIGHT
BEGIN:STANDARD
TZOFFSETFROM:-0600
TZOFFSETTO:-0700
TZNAME:MST
DTSTART:20211107T080000
END:STANDARD
END:VTIMEZONE
BEGIN:VTIMEZONE
TZID:UTC
BEGIN:STANDARD
TZOFFSETFROM:+0000
TZOFFSETTO:+0000
TZNAME:UTC
DTSTART:20170101T000000
END:STANDARD
END:VTIMEZONE
BEGIN:VEVENT
DTSTART;VALUE=DATE:20200331
DTEND;VALUE=DATE:20200401
DTSTAMP:20260420T054521
CREATED:20200105T222703Z
LAST-MODIFIED:20200105T224321Z
UID:304-1585612800-1585699199@glenorapreschool.ca
SUMMARY:Prep Day -- NO SCHOOL
DESCRIPTION:
URL:https://glenorapreschool.ca/calendar/prep-day-no-school-2/
END:VEVENT
BEGIN:VEVENT
DTSTART;VALUE=DATE:20200323
DTEND;VALUE=DATE:20200328
DTSTAMP:20260420T054521
CREATED:20200105T222511Z
LAST-MODIFIED:20200105T224248Z
UID:302-1584921600-1585353599@glenorapreschool.ca
SUMMARY:Spring Break -- NO SCHOOL
DESCRIPTION:
URL:https://glenorapreschool.ca/calendar/spring-break-no-school/
END:VEVENT
BEGIN:VEVENT
DTSTART;TZID=America/Edmonton:20200314T190000
DTEND;TZID=America/Edmonton:20200314T233000
DTSTAMP:20260420T054521
CREATED:20200105T222331Z
LAST-MODIFIED:20200105T223910Z
UID:300-1584212400-1584228600@glenorapreschool.ca
SUMMARY:Annual Preschool Fundraiser
DESCRIPTION:
URL:https://glenorapreschool.ca/calendar/annual-preschool-fundraiser/
END:VEVENT
BEGIN:VEVENT
DTSTART;VALUE=DATE:20200227
DTEND;VALUE=DATE:20200229
DTSTAMP:20260420T054521
CREATED:20200105T221200Z
LAST-MODIFIED:20200105T221850Z
UID:288-1582761600-1582934399@glenorapreschool.ca
SUMMARY:Teachers Convention -- NO SCHOOL
DESCRIPTION:
URL:https://glenorapreschool.ca/calendar/general-meeting/
END:VEVENT
BEGIN:VEVENT
DTSTART;VALUE=DATE:20200217
DTEND;VALUE=DATE:20200218
DTSTAMP:20260420T054521
CREATED:20200105T222145Z
LAST-MODIFIED:20200105T224141Z
UID:298-1581897600-1581983999@glenorapreschool.ca
SUMMARY:Family Day -- NO SCHOOL
DESCRIPTION:
URL:https://glenorapreschool.ca/calendar/family-day-no-school/
END:VEVENT
BEGIN:VEVENT
DTSTART;VALUE=DATE:20200128
DTEND;VALUE=DATE:20200129
DTSTAMP:20260420T054521
CREATED:20200105T222044Z
LAST-MODIFIED:20200105T222044Z
UID:296-1580169600-1580255999@glenorapreschool.ca
SUMMARY:Prep Day -- NO SCHOOL
DESCRIPTION:
URL:https://glenorapreschool.ca/calendar/prep-day-no-school/
END:VEVENT
BEGIN:VEVENT
DTSTART;TZID=America/Edmonton:20200116T193000
DTEND;TZID=America/Edmonton:20200116T203000
DTSTAMP:20260420T054521
CREATED:20200105T220838Z
LAST-MODIFIED:20200105T224039Z
UID:286-1579203000-1579206600@glenorapreschool.ca
SUMMARY:Board Meeting
DESCRIPTION:
URL:https://glenorapreschool.ca/calendar/board-meeting/
END:VEVENT
BEGIN:VEVENT
DTSTART;TZID=America/Edmonton:20200107T090000
DTEND;TZID=America/Edmonton:20200107T113000
DTSTAMP:20260420T054521
CREATED:20200105T224855Z
LAST-MODIFIED:20200105T224855Z
UID:324-1578387600-1578396600@glenorapreschool.ca
SUMMARY:WELCOME BACK!
DESCRIPTION:
URL:https://glenorapreschool.ca/calendar/welcome-back-2/
END:VEVENT
BEGIN:VEVENT
DTSTART;TZID=America/Edmonton:20200106T090000
DTEND;TZID=America/Edmonton:20200106T113000
DTSTAMP:20260420T054521
CREATED:20200105T224715Z
LAST-MODIFIED:20200105T224715Z
UID:322-1578301200-1578310200@glenorapreschool.ca
SUMMARY:WELCOME BACK!
DESCRIPTION:
URL:https://glenorapreschool.ca/calendar/welcome-back/
END:VEVENT
BEGIN:VEVENT
DTSTART;TZID=UTC:20180201T080000
DTEND;TZID=UTC:20180201T170000
DTSTAMP:20260420T054521
CREATED:20180128T200202Z
LAST-MODIFIED:20180128T200202Z
UID:150-1517472000-1517504400@glenorapreschool.ca
SUMMARY:Sample Event
DESCRIPTION:
URL:https://glenorapreschool.ca/calendar/sample-event/
LOCATION:Glenora Preschool\, Edmonton\, AB\, Canada
END:VEVENT
END:VCALENDAR